BEGIN:VCALENDAR
VERSION:2.0
PRODID:-//Centro Berne - ECPv6.15.20//NONSGML v1.0//EN
CALSCALE:GREGORIAN
METHOD:PUBLISH
X-ORIGINAL-URL:https://www.berne.it
X-WR-CALDESC:Eventi per Centro Berne
REFRESH-INTERVAL;VALUE=DURATION:PT1H
X-Robots-Tag:noindex
X-PUBLISHED-TTL:PT1H
BEGIN:VTIMEZONE
TZID:Europe/Rome
BEGIN:DAYLIGHT
TZOFFSETFROM:+0100
TZOFFSETTO:+0200
TZNAME:CEST
DTSTART:20190331T010000
END:DAYLIGHT
BEGIN:STANDARD
TZOFFSETFROM:+0200
TZOFFSETTO:+0100
TZNAME:CET
DTSTART:20191027T010000
END:STANDARD
BEGIN:DAYLIGHT
TZOFFSETFROM:+0100
TZOFFSETTO:+0200
TZNAME:CEST
DTSTART:20200329T010000
END:DAYLIGHT
BEGIN:STANDARD
TZOFFSETFROM:+0200
TZOFFSETTO:+0100
TZNAME:CET
DTSTART:20201025T010000
END:STANDARD
BEGIN:DAYLIGHT
TZOFFSETFROM:+0100
TZOFFSETTO:+0200
TZNAME:CEST
DTSTART:20210328T010000
END:DAYLIGHT
BEGIN:STANDARD
TZOFFSETFROM:+0200
TZOFFSETTO:+0100
TZNAME:CET
DTSTART:20211031T010000
END:STANDARD
END:VTIMEZONE
BEGIN:VEVENT
DTSTART;TZID=Europe/Rome:20200204T143000
DTEND;TZID=Europe/Rome:20200204T183000
DTSTAMP:20260421T122758
CREATED:20190724T124258Z
LAST-MODIFIED:20191127T143224Z
UID:16300-1580826600-1580841000@www.berne.it
SUMMARY:4° incontro "Learning Tuesday. I veleni organizzativi: diagnosi e cura"
DESCRIPTION:Conducono: Marida Lella\, Giorgio Piccinino e Annalisa Valsasina \nDurante i molti anni della nostra attività abbiamo individuato alcuni atteggiamenti mentali capaci di intralciare il buon funzionamento dei gruppi di lavoro e delle organizzazioni. Ci siamo allora chiesti come degli psicoterapeuti\, abituati a “curare” comportamenti individuali problematici potessero dare un proprio contributo pratico e immediatamente fruibile per “prendersi cura” di quelli che abbiamo chiamato i Veleni organizzativi. Molto spesso i gruppi patiscono gli stessi moti sofferenti degli individui\, ne sono in alcuni casi la conseguenza e in altri l’esaltazione. Infatti proprio come i gruppi sono in grado di moltiplicare per più persone le risorse positive individuali\, alla stessa maniera finiscono spesso per generalizzare e consolidare nel tempo atteggiamenti disfunzionali e distruttivi\, che diventano\, quasi senza accorgersene\, Cultura organizzativa e Identità. \nTitoli dei seminari\nI PREGIUDIZI / LE GENERALIZZAZIONI / LE ABITUDINI MENTALI          19 novembre 2019          A. Valsasina\nIL POTERE / IL SOPRUSO / LA SOPRAFFAZIONE         3 dicembre 2019          G. Piccinino\nINSICUREZZA / ANSIA / PAURE         14 gennaio 2020          G. Piccinino\nWORKAHOLISM / MANCANZA DI CONFINI / DIPENDENZA         4 febbraio 2020          M. Lella\nLA PASSIVITA’ / LO SCORAMENTO / RASSEGNAZIONE         3 marzo 2020         A. Valsasina\nIL FORMALISMO / L’IMPERSONALITA’ / IL GELO INTERPERSONALE         31 marzo 2020          M. Lella \nMetodologia\nAbbiamo pensato a interventi agili e partecipati\, 6 mezze giornate pomeridiane in cui gli psicoterapeuti del Centro\, tutti anche consulenti esperti per le organizzazioni\, introdurranno il tema definendone le origini psicologiche\, gli aspetti disfunzionali e le possibili evoluzioni positive. Ne delineeremo una prima diagnosi per arrivare poi\, con il contributo dei partecipanti\, a progetti di intervento nei gruppi e nelle organizzazioni per affrontare ciascun Veleno. Cercheremo di definire Antidoti e Prevenzioni\, nuove Abilità personali e Strategie gruppali. \nCalendario\n19 novembre 2019\, 3 dicembre 2019\, 14 gennaio 2029\, 4 febbraio 2020\, 3 marzo 2020\, 31 marzo 2020.\nOrario: 14.30-18.30. \nIscrizione e costi\nL’iniziativa si terrà con un minimo di 8 iscritti. I partecipanti si potranno iscrivere a 3 incontri (al primo ciclo di novembre\, dicembre e gennaio oppure al secondo di febbraio e marzo) al prezzo di € 897\,00 (costo per 3 incontri)\, oppure a tutto il programma al costo di € 1.282\,00\, in questo caso pagabile in due rate\, la prima di € 841\,00 e la seconda di € 441\,00. La prima rata deve essere pagata almeno una settimana prima dell’inizio. \nChiusura iscrizioni\nLe iscrizioni si chiuderanno il 12 novembre 2019. \nDestinatari e riconoscimenti formativi\nL’iniziativa è riconosciuta da AssoCounseling per un totale di 24 crediti formativi e vi possono partecipare tutti coloro che operano nei gruppi e nelle organizzazioni\, di qualsiasi orientamento e tipo. \nPer informazioni e iscrizioni\, scrivere a: info@bernecounseling.it.
URL:https://www.berne.it/event/4-incontro-learning-tuesday-i-veleni-organizzativi-diagnosi-e-cura/
LOCATION:Centro Berne\, piazza Vesuvio 19\, Milano\, Italia\, 20144\, Italia
CATEGORIES:- L'At per il benessere della persona, del team e delle organizzazioni
ATTACH;FMTTYPE=image/jpeg:https://www.berne.it/public/uploads/2019/07/disputa-300x169.jpg
ORGANIZER;CN="Centro Berne":MAILTO:berne@berne.it
END:VEVENT
END:VCALENDAR